BEGIN:VCALENDAR
VERSION:2.0
PRODID:-//Historic Valley Junction - ECPv6.15.14//NONSGML v1.0//EN
CALSCALE:GREGORIAN
METHOD:PUBLISH
X-WR-CALNAME:Historic Valley Junction
X-ORIGINAL-URL:https://valleyjunction.com
X-WR-CALDESC:Events for Historic Valley Junction
REFRESH-INTERVAL;VALUE=DURATION:PT1H
X-Robots-Tag:noindex
X-PUBLISHED-TTL:PT1H
BEGIN:VTIMEZONE
TZID:America/Chicago
BEGIN:DAYLIGHT
TZOFFSETFROM:-0600
TZOFFSETTO:-0500
TZNAME:CDT
DTSTART:20250309T080000
END:DAYLIGHT
BEGIN:STANDARD
TZOFFSETFROM:-0500
TZOFFSETTO:-0600
TZNAME:CST
DTSTART:20251102T070000
END:STANDARD
BEGIN:DAYLIGHT
TZOFFSETFROM:-0600
TZOFFSETTO:-0500
TZNAME:CDT
DTSTART:20260308T080000
END:DAYLIGHT
BEGIN:STANDARD
TZOFFSETFROM:-0500
TZOFFSETTO:-0600
TZNAME:CST
DTSTART:20261101T070000
END:STANDARD
BEGIN:DAYLIGHT
TZOFFSETFROM:-0600
TZOFFSETTO:-0500
TZNAME:CDT
DTSTART:20270314T080000
END:DAYLIGHT
BEGIN:STANDARD
TZOFFSETFROM:-0500
TZOFFSETTO:-0600
TZNAME:CST
DTSTART:20271107T070000
END:STANDARD
END:VTIMEZONE
BEGIN:VEVENT
DTSTART;TZID=America/Chicago:20260124T130000
DTEND;TZID=America/Chicago:20260124T160000
DTSTAMP:20260420T051401
CREATED:20250103T151203Z
LAST-MODIFIED:20260121T184653Z
UID:1094264-1769259600-1769270400@valleyjunction.com
SUMMARY:Fire and Ice Winter Pub Crawl
DESCRIPTION:AN INTERACTIVE WINTER PUB CRAWL IN HISTORIC VALLEY JUNCTION \nCITYVIEW brings its now legendary Valley Junction area pub crawl back again! \n \n			\n				\n				\n				\n				\n				\n			\n				\n				\n				\n				\n				Fire and Ice is a hockey-themed liquor sampling event that will be sure to warm up your winter blues! With your event ticket\, you will receive 10 individual drink tickets to sample some of the BEST winter cocktails from establishments in the Valley Junction area. \nPURCHASE TICKETS HERE \nParticipating establishments: \n\nThe Tavern\nG Mig’s 5th Street Pub\nThe Winchester Public House\nBix & Co.\nRumley’s Reclaimed Things\n\n			\n				\n				\n				\n				\n				\n			\n				\n				\n				\n				\n				Bring your friends\, try new drinks and shop local in Valley Junction. \n$25 in advance and $35 at the door. \nRegistration and check-in at the Valley Junction Welcome Center at 137 5th Street \nPURCHASE TICKETS HERE
URL:https://valleyjunction.com/valley-junction-events/fire-and-ice-winter-pub-crawl/
LOCATION:Historic Valley Junction Foundation Office\, 137 5th Street\, West Des Moines\, IA\, 50265\, United States
ATTACH;FMTTYPE=image/jpeg:https://valleyjunction.com/wp-content/uploads/2025/01/PXL_20240120_190103157.MP_-scaled-e1735918003543.jpg
END:VEVENT
END:VCALENDAR