BEGIN:VCALENDAR
VERSION:2.0
PRODID:-//Historic Valley Junction - ECPv6.15.14//NONSGML v1.0//EN
CALSCALE:GREGORIAN
METHOD:PUBLISH
X-WR-CALNAME:Historic Valley Junction
X-ORIGINAL-URL:https://valleyjunction.com
X-WR-CALDESC:Events for Historic Valley Junction
REFRESH-INTERVAL;VALUE=DURATION:PT1H
X-Robots-Tag:noindex
X-PUBLISHED-TTL:PT1H
BEGIN:VTIMEZONE
TZID:America/Chicago
BEGIN:DAYLIGHT
TZOFFSETFROM:-0600
TZOFFSETTO:-0500
TZNAME:CDT
DTSTART:20250309T080000
END:DAYLIGHT
BEGIN:STANDARD
TZOFFSETFROM:-0500
TZOFFSETTO:-0600
TZNAME:CST
DTSTART:20251102T070000
END:STANDARD
BEGIN:DAYLIGHT
TZOFFSETFROM:-0600
TZOFFSETTO:-0500
TZNAME:CDT
DTSTART:20260308T080000
END:DAYLIGHT
BEGIN:STANDARD
TZOFFSETFROM:-0500
TZOFFSETTO:-0600
TZNAME:CST
DTSTART:20261101T070000
END:STANDARD
BEGIN:DAYLIGHT
TZOFFSETFROM:-0600
TZOFFSETTO:-0500
TZNAME:CDT
DTSTART:20270314T080000
END:DAYLIGHT
BEGIN:STANDARD
TZOFFSETFROM:-0500
TZOFFSETTO:-0600
TZNAME:CST
DTSTART:20271107T070000
END:STANDARD
END:VTIMEZONE
BEGIN:VEVENT
DTSTART;TZID=America/Chicago:20261217T170000
DTEND;TZID=America/Chicago:20261217T200000
DTSTAMP:20260420T114259
CREATED:20240913T162418Z
LAST-MODIFIED:20260128T010442Z
UID:1094255-1797526800-1797537600@valleyjunction.com
SUMMARY:Jingle in the Junction
DESCRIPTION:
URL:https://valleyjunction.com/valley-junction-events/jingle-in-the-junction/
LOCATION:5th Street & Railroad Park\, 401 Railroad Pl\, West Des Moines\, IA
ATTACH;FMTTYPE=image/jpeg:https://valleyjunction.com/wp-content/uploads/2023/08/Valley-Junction-santa-and-horses-scaled-e1726244810191.jpg
ORGANIZER;CN="Historic Valley Junction Foundation":MAILTO:events@valleyjunction.com
END:VEVENT
END:VCALENDAR