BEGIN:VCALENDAR
VERSION:2.0
PRODID:-//Historic Valley Junction - ECPv6.15.14//NONSGML v1.0//EN
CALSCALE:GREGORIAN
METHOD:PUBLISH
X-ORIGINAL-URL:https://valleyjunction.com
X-WR-CALDESC:Events for Historic Valley Junction
REFRESH-INTERVAL;VALUE=DURATION:PT1H
X-Robots-Tag:noindex
X-PUBLISHED-TTL:PT1H
BEGIN:VTIMEZONE
TZID:America/Chicago
BEGIN:DAYLIGHT
TZOFFSETFROM:-0600
TZOFFSETTO:-0500
TZNAME:CDT
DTSTART:20250309T080000
END:DAYLIGHT
BEGIN:STANDARD
TZOFFSETFROM:-0500
TZOFFSETTO:-0600
TZNAME:CST
DTSTART:20251102T070000
END:STANDARD
BEGIN:DAYLIGHT
TZOFFSETFROM:-0600
TZOFFSETTO:-0500
TZNAME:CDT
DTSTART:20260308T080000
END:DAYLIGHT
BEGIN:STANDARD
TZOFFSETFROM:-0500
TZOFFSETTO:-0600
TZNAME:CST
DTSTART:20261101T070000
END:STANDARD
BEGIN:DAYLIGHT
TZOFFSETFROM:-0600
TZOFFSETTO:-0500
TZNAME:CDT
DTSTART:20270314T080000
END:DAYLIGHT
BEGIN:STANDARD
TZOFFSETFROM:-0500
TZOFFSETTO:-0600
TZNAME:CST
DTSTART:20271107T070000
END:STANDARD
END:VTIMEZONE
BEGIN:VEVENT
DTSTART;TZID=America/Chicago:20261010T090000
DTEND;TZID=America/Chicago:20261010T100000
DTSTAMP:20260420T113532
CREATED:20250122T211708Z
LAST-MODIFIED:20260409T144321Z
UID:1095027-1791622800-1791626400@valleyjunction.com
SUMMARY:Yoga in the Park
DESCRIPTION:Presented by Lindsay Bordwell of    \nYoga in the Park offers a unique blend of tranquility and community\, set against the backdrop of Historic Valley Junction. Led by local yoga instructor\, Lindsay Bordwell\, each session is designed to harmonize your energy and enhance your practice\, whether you’re a beginner or a seasoned yogi. Share this journey with like-minded individuals\, creating bonds that transcend the mat. \nBring your matYoga for an hour at 9:00amBrunch and shop afterwards \nMay 9June 13July 11August 8September 12October 10 \nRailroad Park stage by the old train depotAll ages\, all genders\, all body types welcomeFree \nMake it a morning in Valley Junction! \n \n\n\n 
URL:https://valleyjunction.com/valley-junction-events/yoga-in-the-park-6/
LOCATION:Railroad Park Stage\, 425 Railroad Ave\, West Des Moines\, IA\, IA\, 50265\, United States
ATTACH;FMTTYPE=image/jpeg:https://valleyjunction.com/wp-content/uploads/2024/04/PXL_20240608_142249983-scaled.jpg
ORGANIZER;CN="Historic Valley Junction Foundation":MAILTO:events@valleyjunction.com
END:VEVENT
END:VCALENDAR